BEGIN:VCALENDAR
VERSION:2.0
PRODID:-//Apache Rock Apartments - ECPv6.15.20//NONSGML v1.0//EN
CALSCALE:GREGORIAN
METHOD:PUBLISH
X-WR-CALNAME:Apache Rock Apartments
X-ORIGINAL-URL:https://apacherock.com
X-WR-CALDESC:Events for Apache Rock Apartments
REFRESH-INTERVAL;VALUE=DURATION:PT1H
X-Robots-Tag:noindex
X-PUBLISHED-TTL:PT1H
BEGIN:VTIMEZONE
TZID:America/Denver
BEGIN:DAYLIGHT
TZOFFSETFROM:-0700
TZOFFSETTO:-0600
TZNAME:MDT
DTSTART:20250309T090000
END:DAYLIGHT
BEGIN:STANDARD
TZOFFSETFROM:-0600
TZOFFSETTO:-0700
TZNAME:MST
DTSTART:20251102T080000
END:STANDARD
BEGIN:DAYLIGHT
TZOFFSETFROM:-0700
TZOFFSETTO:-0600
TZNAME:MDT
DTSTART:20260308T090000
END:DAYLIGHT
BEGIN:STANDARD
TZOFFSETFROM:-0600
TZOFFSETTO:-0700
TZNAME:MST
DTSTART:20261101T080000
END:STANDARD
BEGIN:DAYLIGHT
TZOFFSETFROM:-0700
TZOFFSETTO:-0600
TZNAME:MDT
DTSTART:20270314T090000
END:DAYLIGHT
BEGIN:STANDARD
TZOFFSETFROM:-0600
TZOFFSETTO:-0700
TZNAME:MST
DTSTART:20271107T080000
END:STANDARD
END:VTIMEZONE
BEGIN:VEVENT
DTSTART;TZID=America/Denver:20260405T080000
DTEND;TZID=America/Denver:20260405T170000
DTSTAMP:20260420T205614
CREATED:20260331T094352Z
LAST-MODIFIED:20260331T115835Z
UID:10000002-1775376000-1775408400@apacherock.com
SUMMARY:Maecenas Imperdiet
DESCRIPTION:Event Details: \nDate: April 5\, 2026\nTime: 6:00 PM – 9:00 PM (EST)\nLocation: 123 Event Street\, New York\, NY\, USA \nMorbi euismod quam venenatis augue faucibus dignissim. Pellentesque habitant morbi tristique senectus et netus et malesuada fames ac turpis egestas. Ut aliquam elit in consequat aliquam. Cras ullamcorper arcu eu leo pellentesque\, et posuere diam viverra. Praesent lacinia mollis tempus. Ut tempor leo vel feugiat lacinia. Nam auctor ligula quis ex ornare\, nec vestibulum massa consectetur.
URL:https://apacherock.com/event/maecenas-imperdiet/
ATTACH;FMTTYPE=image/png:https://apacherock.com/wp-content/uploads/2026/03/text-slider-3_image2-5.png
END:VEVENT
END:VCALENDAR